BEGIN:VCALENDAR
VERSION:2.0
PRODID:-//Trachtenkapelle Gedersdorf - ECPv6.15.20//NONSGML v1.0//EN
CALSCALE:GREGORIAN
METHOD:PUBLISH
X-WR-CALNAME:Trachtenkapelle Gedersdorf
X-ORIGINAL-URL:https://tk-gedersdorf.at
X-WR-CALDESC:Veranstaltungen für Trachtenkapelle Gedersdorf
REFRESH-INTERVAL;VALUE=DURATION:PT1H
X-Robots-Tag:noindex
X-PUBLISHED-TTL:PT1H
BEGIN:VTIMEZONE
TZID:UTC
BEGIN:STANDARD
TZOFFSETFROM:+0000
TZOFFSETTO:+0000
TZNAME:UTC
DTSTART:20240101T000000
END:STANDARD
END:VTIMEZONE
BEGIN:VEVENT
DTSTART;TZID=UTC:20250427T163000
DTEND;TZID=UTC:20250427T164500
DTSTAMP:20260423T142416
CREATED:20250207T100517Z
LAST-MODIFIED:20250424T182530Z
UID:1980-1745771400-1745772300@tk-gedersdorf.at
SUMMARY:Konzertwertungsspiel
DESCRIPTION:Wir spielen voraussichtlich gegen 1630h
URL:https://tk-gedersdorf.at/index.php/event/konzertwertungsspiel/
LOCATION:Haus der Musik\, Grafenwörth\, 3484
END:VEVENT
END:VCALENDAR