BEGIN:VCALENDAR
VERSION:2.0
PRODID:-//Trachtenkapelle Gedersdorf - ECPv6.15.20//NONSGML v1.0//EN
CALSCALE:GREGORIAN
METHOD:PUBLISH
X-WR-CALNAME:Trachtenkapelle Gedersdorf
X-ORIGINAL-URL:https://tk-gedersdorf.at
X-WR-CALDESC:Veranstaltungen für Trachtenkapelle Gedersdorf
REFRESH-INTERVAL;VALUE=DURATION:PT1H
X-Robots-Tag:noindex
X-PUBLISHED-TTL:PT1H
BEGIN:VTIMEZONE
TZID:UTC
BEGIN:STANDARD
TZOFFSETFROM:+0000
TZOFFSETTO:+0000
TZNAME:UTC
DTSTART:20240101T000000
END:STANDARD
END:VTIMEZONE
BEGIN:VEVENT
DTSTART;TZID=UTC:20250815T140000
DTEND;TZID=UTC:20250815T170000
DTSTAMP:20260423T085756
CREATED:20250507T083934Z
LAST-MODIFIED:20250507T083934Z
UID:2021-1755266400-1755277200@tk-gedersdorf.at
SUMMARY:Marschwertung
DESCRIPTION:Wann genau wir marschieren\, ist noch unklar.
URL:https://tk-gedersdorf.at/index.php/event/marschwertung/
LOCATION:Schönberg\, Schönberg am Kamp\, 3562
END:VEVENT
END:VCALENDAR