BEGIN:VCALENDAR
VERSION:2.0
PRODID:-//Trachtenkapelle Gedersdorf - ECPv6.15.20//NONSGML v1.0//EN
CALSCALE:GREGORIAN
METHOD:PUBLISH
X-WR-CALNAME:Trachtenkapelle Gedersdorf
X-ORIGINAL-URL:https://tk-gedersdorf.at
X-WR-CALDESC:Veranstaltungen für Trachtenkapelle Gedersdorf
REFRESH-INTERVAL;VALUE=DURATION:PT1H
X-Robots-Tag:noindex
X-PUBLISHED-TTL:PT1H
BEGIN:VTIMEZONE
TZID:UTC
BEGIN:STANDARD
TZOFFSETFROM:+0000
TZOFFSETTO:+0000
TZNAME:UTC
DTSTART:20250101T000000
END:STANDARD
END:VTIMEZONE
BEGIN:VEVENT
DTSTART;TZID=UTC:20260621T093000
DTEND;TZID=UTC:20260621T110000
DTSTAMP:20260423T003204
CREATED:20260314T174513Z
LAST-MODIFIED:20260417T192507Z
UID:2123-1782034200-1782039600@tk-gedersdorf.at
SUMMARY:Musikermesse mit Agape
DESCRIPTION:Die Messe startet um 09:30h
URL:https://tk-gedersdorf.at/index.php/event/musikermesse-mit-agape/
LOCATION:Pfarrgarten Theiß\, Theiß\, 3494
END:VEVENT
END:VCALENDAR