BEGIN:VCALENDAR
VERSION:2.0
PRODID:-//Trachtenkapelle Gedersdorf - ECPv6.15.20//NONSGML v1.0//EN
CALSCALE:GREGORIAN
METHOD:PUBLISH
X-ORIGINAL-URL:https://tk-gedersdorf.at
X-WR-CALDESC:Veranstaltungen für Trachtenkapelle Gedersdorf
REFRESH-INTERVAL;VALUE=DURATION:PT1H
X-Robots-Tag:noindex
X-PUBLISHED-TTL:PT1H
BEGIN:VTIMEZONE
TZID:UTC
BEGIN:STANDARD
TZOFFSETFROM:+0000
TZOFFSETTO:+0000
TZNAME:UTC
DTSTART:20250101T000000
END:STANDARD
END:VTIMEZONE
BEGIN:VEVENT
DTSTART;TZID=UTC:20261205T170000
DTEND;TZID=UTC:20261206T160000
DTSTAMP:20260423T080317
CREATED:20260314T175640Z
LAST-MODIFIED:20260314T175640Z
UID:2137-1796490000-1796572800@tk-gedersdorf.at
SUMMARY:Advent am Teich
DESCRIPTION:
URL:https://tk-gedersdorf.at/index.php/event/advent-am-teich/
LOCATION:Teich in Brunn im Felde\, Haupstraße\, Brunn im Felde\, 3494
END:VEVENT
END:VCALENDAR