BEGIN:VCALENDAR
VERSION:2.0
PRODID:-//Trachtenkapelle Gedersdorf - ECPv6.15.20//NONSGML v1.0//EN
CALSCALE:GREGORIAN
METHOD:PUBLISH
X-ORIGINAL-URL:https://tk-gedersdorf.at
X-WR-CALDESC:Veranstaltungen für Trachtenkapelle Gedersdorf
REFRESH-INTERVAL;VALUE=DURATION:PT1H
X-Robots-Tag:noindex
X-PUBLISHED-TTL:PT1H
BEGIN:VTIMEZONE
TZID:UTC
BEGIN:STANDARD
TZOFFSETFROM:+0000
TZOFFSETTO:+0000
TZNAME:UTC
DTSTART:20240101T000000
END:STANDARD
END:VTIMEZONE
BEGIN:VEVENT
DTSTART;TZID=UTC:20250815T140000
DTEND;TZID=UTC:20250815T170000
DTSTAMP:20260423T073031
CREATED:20250507T083934Z
LAST-MODIFIED:20250507T083934Z
UID:2021-1755266400-1755277200@tk-gedersdorf.at
SUMMARY:Marschwertung
DESCRIPTION:Wann genau wir marschieren\, ist noch unklar.
URL:https://tk-gedersdorf.at/index.php/event/marschwertung/
LOCATION:Schönberg\, Schönberg am Kamp\, 3562
END:VEVENT
BEGIN:VEVENT
DTSTART;TZID=UTC:20250816T180000
DTEND;TZID=UTC:20250816T210000
DTSTAMP:20260423T073031
CREATED:20250507T084742Z
LAST-MODIFIED:20250507T084742Z
UID:2024-1755367200-1755378000@tk-gedersdorf.at
SUMMARY:Dämmerschoppen TKG
DESCRIPTION:Wir freuen uns auf viele musikbegeisterte Zuhörer:innen. Heuer wird es erstmals warmes Essen (voraussichtlich Semmel mit Grillkäse oder Geschnetzeltem) anstelle von Aufstrichbroten geben. Für Getränke ist selbstverständlich ebenfalls gesorgt\, damit einem gemütlichen Abend nichtesim Wege steht.
URL:https://tk-gedersdorf.at/index.php/event/daemmerschoppen-tkg/
LOCATION:Pfarrgarten Theiß\, Theiß\, 3494
END:VEVENT
BEGIN:VEVENT
DTSTART;VALUE=DATE:20250824
DTEND;VALUE=DATE:20250825
DTSTAMP:20260423T073031
CREATED:20250616T151912Z
LAST-MODIFIED:20250616T151912Z
UID:2039-1755993600-1756079999@tk-gedersdorf.at
SUMMARY:Sternenmarsch Volksfest Krems
DESCRIPTION:tbd
URL:https://tk-gedersdorf.at/index.php/event/sternenmarsch-volksfest-krems/
END:VEVENT
END:VCALENDAR