BEGIN:VCALENDAR
VERSION:2.0
PRODID:-//Trachtenkapelle Gedersdorf - ECPv6.15.20//NONSGML v1.0//EN
CALSCALE:GREGORIAN
METHOD:PUBLISH
X-ORIGINAL-URL:https://tk-gedersdorf.at
X-WR-CALDESC:Veranstaltungen für Trachtenkapelle Gedersdorf
REFRESH-INTERVAL;VALUE=DURATION:PT1H
X-Robots-Tag:noindex
X-PUBLISHED-TTL:PT1H
BEGIN:VTIMEZONE
TZID:UTC
BEGIN:STANDARD
TZOFFSETFROM:+0000
TZOFFSETTO:+0000
TZNAME:UTC
DTSTART:20240101T000000
END:STANDARD
END:VTIMEZONE
BEGIN:VEVENT
DTSTART;TZID=UTC:20250914T110000
DTEND;TZID=UTC:20250914T140000
DTSTAMP:20260423T055817
CREATED:20250616T152008Z
LAST-MODIFIED:20250616T152008Z
UID:2041-1757847600-1757858400@tk-gedersdorf.at
SUMMARY:Frühschoppen Rohrendorf
DESCRIPTION:
URL:https://tk-gedersdorf.at/index.php/event/fruehschoppen-rohrendorf/
END:VEVENT
BEGIN:VEVENT
DTSTART;TZID=UTC:20250928T110000
DTEND;TZID=UTC:20250928T140000
DTSTAMP:20260423T055817
CREATED:20250507T084450Z
LAST-MODIFIED:20250922T182606Z
UID:2026-1759057200-1759068000@tk-gedersdorf.at
SUMMARY:Frühschoppen im Hofbräuhaus
DESCRIPTION:Wir werden das Biergartenclosing musikalisch umrahmen.
URL:https://tk-gedersdorf.at/index.php/event/fruehschoppen-im-hofbraeuhaus/
LOCATION:Hofbräuhaus\, Südtirolerplatz 2\, Krems an der Donau\, 3500\, Austria
END:VEVENT
END:VCALENDAR