BEGIN:VCALENDAR
VERSION:2.0
PRODID:-//Trachtenkapelle Gedersdorf - ECPv6.15.20//NONSGML v1.0//EN
CALSCALE:GREGORIAN
METHOD:PUBLISH
X-WR-CALNAME:Trachtenkapelle Gedersdorf
X-ORIGINAL-URL:https://tk-gedersdorf.at
X-WR-CALDESC:Veranstaltungen für Trachtenkapelle Gedersdorf
REFRESH-INTERVAL;VALUE=DURATION:PT1H
X-Robots-Tag:noindex
X-PUBLISHED-TTL:PT1H
BEGIN:VTIMEZONE
TZID:UTC
BEGIN:STANDARD
TZOFFSETFROM:+0000
TZOFFSETTO:+0000
TZNAME:UTC
DTSTART:20250101T000000
END:STANDARD
END:VTIMEZONE
BEGIN:VEVENT
DTSTART;TZID=UTC:20260502T164500
DTEND;TZID=UTC:20260502T171500
DTSTAMP:20260422T211129
CREATED:20260314T174259Z
LAST-MODIFIED:20260417T183352Z
UID:570-1777740300-1777742100@tk-gedersdorf.at
SUMMARY:Konzertwertung
DESCRIPTION:Wir werden gegen 16:45 auftreten und zwar im Format Polka\, Walzer\, Marsch.
URL:https://tk-gedersdorf.at/index.php/event/konzertwertung/
LOCATION:Haus der Musik\, Grafenwörth\, 3484
END:VEVENT
END:VCALENDAR