BEGIN:VCALENDAR
VERSION:2.0
PRODID:-//Trachtenkapelle Gedersdorf - ECPv6.15.20//NONSGML v1.0//EN
CALSCALE:GREGORIAN
METHOD:PUBLISH
X-ORIGINAL-URL:https://tk-gedersdorf.at
X-WR-CALDESC:Veranstaltungen für Trachtenkapelle Gedersdorf
REFRESH-INTERVAL;VALUE=DURATION:PT1H
X-Robots-Tag:noindex
X-PUBLISHED-TTL:PT1H
BEGIN:VTIMEZONE
TZID:UTC
BEGIN:STANDARD
TZOFFSETFROM:+0000
TZOFFSETTO:+0000
TZNAME:UTC
DTSTART:20250101T000000
END:STANDARD
END:VTIMEZONE
BEGIN:VEVENT
DTSTART;TZID=UTC:20260705T090000
DTEND;TZID=UTC:20260705T133000
DTSTAMP:20260423T003526
CREATED:20250507T083651Z
LAST-MODIFIED:20260314T174604Z
UID:2019-1783242000-1783258200@tk-gedersdorf.at
SUMMARY:Frühschoppen beim FF-Fest in Theiß
DESCRIPTION:Im Zuge des Festes der Freiwilligen Feuerwehr Theiß\, werden wir dort am Sonntag die Messe und danach den Frühschoppen musikalisch umrahmen.
URL:https://tk-gedersdorf.at/index.php/event/fruehschoppen-beim-ff-fest-in-theiss/
LOCATION:FF-Haus Theiß\, Stratzdorfer Straße 1\, Theiß\, 3494
END:VEVENT
END:VCALENDAR