BEGIN:VCALENDAR
VERSION:2.0
PRODID:-//Trachtenkapelle Gedersdorf - ECPv6.15.20//NONSGML v1.0//EN
CALSCALE:GREGORIAN
METHOD:PUBLISH
X-ORIGINAL-URL:https://tk-gedersdorf.at
X-WR-CALDESC:Veranstaltungen für Trachtenkapelle Gedersdorf
REFRESH-INTERVAL;VALUE=DURATION:PT1H
X-Robots-Tag:noindex
X-PUBLISHED-TTL:PT1H
BEGIN:VTIMEZONE
TZID:UTC
BEGIN:STANDARD
TZOFFSETFROM:+0000
TZOFFSETTO:+0000
TZNAME:UTC
DTSTART:20250101T000000
END:STANDARD
END:VTIMEZONE
BEGIN:VEVENT
DTSTART;TZID=UTC:20260815T160000
DTEND;TZID=UTC:20260815T220000
DTSTAMP:20260423T021050
CREATED:20260314T174829Z
LAST-MODIFIED:20260314T174829Z
UID:2127-1786809600-1786831200@tk-gedersdorf.at
SUMMARY:Tag der Blasmusik
DESCRIPTION:Wir laden alle Musikbegeisterten wieder herzlich ein\, unserem Dämmerschoppen am Teich in Brunn im Felde zu lauschen. Für Speis und Trank ist selbstverständlich gesorgt.
URL:https://tk-gedersdorf.at/index.php/event/tag-der-blasmusik/
END:VEVENT
BEGIN:VEVENT
DTSTART;TZID=UTC:20260823T090000
DTEND;TZID=UTC:20260823T140000
DTSTAMP:20260423T021050
CREATED:20260314T175043Z
LAST-MODIFIED:20260314T175043Z
UID:2129-1787475600-1787493600@tk-gedersdorf.at
SUMMARY:FF-Fest Gedersdorf
DESCRIPTION:Im Zuge des Festes der Freiwilligen Feuerwehr Gedersdorf\, werden wir dort am Sonntag die Messe und danach den Frühschoppen musikalisch umrahmen.
URL:https://tk-gedersdorf.at/index.php/event/ff-fest-gedersdorf/
LOCATION:Teich in Brunn im Felde\, Haupstraße\, Brunn im Felde\, 3494
END:VEVENT
END:VCALENDAR