BEGIN:VCALENDAR
VERSION:2.0
PRODID:-//Trachtenkapelle Gedersdorf - ECPv6.15.20//NONSGML v1.0//EN
CALSCALE:GREGORIAN
METHOD:PUBLISH
X-WR-CALNAME:Trachtenkapelle Gedersdorf
X-ORIGINAL-URL:https://tk-gedersdorf.at
X-WR-CALDESC:Veranstaltungen für Trachtenkapelle Gedersdorf
REFRESH-INTERVAL;VALUE=DURATION:PT1H
X-Robots-Tag:noindex
X-PUBLISHED-TTL:PT1H
BEGIN:VTIMEZONE
TZID:UTC
BEGIN:STANDARD
TZOFFSETFROM:+0000
TZOFFSETTO:+0000
TZNAME:UTC
DTSTART:20250101T000000
END:STANDARD
END:VTIMEZONE
BEGIN:VEVENT
DTSTART;TZID=UTC:20260430T180000
DTEND;TZID=UTC:20260430T190000
DTSTAMP:20260422T194010
CREATED:20250207T100607Z
LAST-MODIFIED:20260314T174142Z
UID:1982-1777572000-1777575600@tk-gedersdorf.at
SUMMARY:Maibaumaufstellen
DESCRIPTION:
URL:https://tk-gedersdorf.at/index.php/event/maibaumaufstellen/
LOCATION:FF-Haus Brunn\, Hauptstraße 18\, Brunn im Felde\, NÖ\, 3494\, Österreich
END:VEVENT
END:VCALENDAR